{
 "currentVersion": 10.91,
 "cimVersion": "2.9.0",
 "serviceDescription": "",
 "mapName": "2024_Ortho",
 "description": "",
 "copyrightText": "",
 "supportsDynamicLayers": true,
 "layers": [
  {
   "id": 0,
   "name": "Aerial_2024",
   "parentLayerId": -1,
   "defaultVisibility": true,
   "subLayerIds": null,
   "minScale": 0,
   "maxScale": 0,
   "type": "Raster Layer",
   "supportsDynamicLegends": true
  }
 ],
 "tables": [],
 "spatialReference": {
  "wkid": 102187,
  "latestWkid": 3776,
  "xyTolerance": 0.001,
  "zTolerance": 0.001,
  "mTolerance": 0.001,
  "falseX": -5622600,
  "falseY": -10001100,
  "xyUnits": 10000,
  "falseZ": -100000,
  "zUnits": 10000,
  "falseM": -100000,
  "mUnits": 10000
 },
 "singleFusedMapCache": true,
 "tileInfo": {
  "rows": 256,
  "cols": 256,
  "dpi": 96,
  "format": "MIXED",
  "compressionQuality": 75,
  "origin": {
   "x": -5622600,
   "y": 10001100
  },
  "spatialReference": {
   "wkid": 102187,
   "latestWkid": 3776,
   "xyTolerance": 0.001,
   "zTolerance": 0.001,
   "mTolerance": 0.001,
   "falseX": -5622600,
   "falseY": -10001100,
   "xyUnits": 10000,
   "falseZ": -100000,
   "zUnits": 10000,
   "falseM": -100000,
   "mUnits": 10000
  },
  "lods": [
   {
    "level": 0,
    "resolution": 13.229193125052918,
    "scale": 50000
   },
   {
    "level": 1,
    "resolution": 6.614596562526459,
    "scale": 25000
   },
   {
    "level": 2,
    "resolution": 2.6458386250105836,
    "scale": 10000
   },
   {
    "level": 3,
    "resolution": 1.3229193125052918,
    "scale": 5000
   },
   {
    "level": 4,
    "resolution": 0.6614596562526459,
    "scale": 2500
   },
   {
    "level": 5,
    "resolution": 0.31750063500127,
    "scale": 1200
   },
   {
    "level": 6,
    "resolution": 0.158750317500635,
    "scale": 600
   },
   {
    "level": 7,
    "resolution": 0.0793751587503175,
    "scale": 300
   }
  ]
 },
 "storageInfo": {
  "storageFormat": "esriMapCacheStorageModeCompactV2",
  "packetSize": 128
 },
 "initialExtent": {
  "xmin": 17480.62262958281,
  "ymin": 5895522,
  "xmax": 44214.37737041719,
  "ymax": 5910372,
  "spatialReference": {
   "wkid": 102187,
   "latestWkid": 3776,
   "xyTolerance": 0.001,
   "zTolerance": 0.001,
   "mTolerance": 0.001,
   "falseX": -5622600,
   "falseY": -10001100,
   "xyUnits": 10000,
   "falseZ": -100000,
   "zUnits": 10000,
   "falseM": -100000,
   "mUnits": 10000
  }
 },
 "fullExtent": {
  "xmin": 24434.99999999973,
  "ymin": 5896197,
  "xmax": 37260.000000000175,
  "ymax": 5909697.000000001,
  "spatialReference": {
   "wkid": 102187,
   "latestWkid": 3776,
   "xyTolerance": 0.001,
   "zTolerance": 0.001,
   "mTolerance": 0.001,
   "falseX": -5622600,
   "falseY": -10001100,
   "xyUnits": 10000,
   "falseZ": -100000,
   "zUnits": 10000,
   "falseM": -100000,
   "mUnits": 10000
  }
 },
 "datesInUnknownTimezone": false,
 "minScale": 50000,
 "maxScale": 300,
 "minLOD": 0,
 "maxLOD": 7,
 "units": "esriMeters",
 "supportedImageFormatTypes": "PNG32,PNG24,PNG,JPG,DIB,TIFF,EMF,PS,PDF,GIF,SVG,SVGZ,BMP",
 "documentInfo": {
  "Title": "2024_Ortho",
  "Author": "",
  "Comments": "",
  "Subject": "City of Leduc 2024 Orthophoto",
  "Category": "",
  "AntialiasingMode": "None",
  "TextAntialiasingMode": "Force",
  "Version": "2.9.0",
  "Keywords": "Leduc"
 },
 "capabilities": "Map",
 "supportedQueryFormats": "JSON, geoJSON, PBF",
 "exportTilesAllowed": false,
 "referenceScale": 0.0,
 "datumTransformations": [
  {
   "geoTransforms": [
    {
     "wkid": 108190,
     "latestWkid": 108190,
     "transformForward": true,
     "name": "WGS_1984_(ITRF00)_To_NAD_1983"
    }
   ]
  },
  {
   "geoTransforms": [
    {
     "wkid": 108190,
     "latestWkid": 108190,
     "transformForward": false,
     "name": "WGS_1984_(ITRF00)_To_NAD_1983"
    }
   ]
  }
 ],
 "supportsDatumTransformation": true,
 "archivingInfo": {
  "supportsHistoricMoment": false
 },
 "supportsClipping": true,
 "supportsSpatialFilter": true,
 "supportsTimeRelation": true,
 "supportsQueryDataElements": true,
 "maxRecordCount": 2000,
 "maxImageHeight": 4096,
 "maxImageWidth": 4096,
 "supportedExtensions": ""
}
